BEGIN:VCALENDAR
VERSION:2.0
PRODID:-//BCA Expo - ECPv6.15.16//NONSGML v1.0//EN
CALSCALE:GREGORIAN
METHOD:PUBLISH
X-ORIGINAL-URL:https://bcaexpo.com
X-WR-CALDESC:Events for BCA Expo
REFRESH-INTERVAL;VALUE=DURATION:PT1H
X-Robots-Tag:noindex
X-PUBLISHED-TTL:PT1H
BEGIN:VTIMEZONE
TZID:America/Los_Angeles
BEGIN:DAYLIGHT
TZOFFSETFROM:-0800
TZOFFSETTO:-0700
TZNAME:PDT
DTSTART:20250309T100000
END:DAYLIGHT
BEGIN:STANDARD
TZOFFSETFROM:-0700
TZOFFSETTO:-0800
TZNAME:PST
DTSTART:20251102T090000
END:STANDARD
BEGIN:DAYLIGHT
TZOFFSETFROM:-0800
TZOFFSETTO:-0700
TZNAME:PDT
DTSTART:20260308T100000
END:DAYLIGHT
BEGIN:STANDARD
TZOFFSETFROM:-0700
TZOFFSETTO:-0800
TZNAME:PST
DTSTART:20261101T090000
END:STANDARD
BEGIN:DAYLIGHT
TZOFFSETFROM:-0800
TZOFFSETTO:-0700
TZNAME:PDT
DTSTART:20270314T100000
END:DAYLIGHT
BEGIN:STANDARD
TZOFFSETFROM:-0700
TZOFFSETTO:-0800
TZNAME:PST
DTSTART:20271107T090000
END:STANDARD
END:VTIMEZONE
BEGIN:VEVENT
DTSTART;TZID=America/Los_Angeles:20260317T120000
DTEND;TZID=America/Los_Angeles:20260317T130000
DTSTAMP:20260423T030818
CREATED:20260116T205622Z
LAST-MODIFIED:20260219T193709Z
UID:534-1773748800-1773752400@bcaexpo.com
SUMMARY:BCA General Membership Meeting & Lunch
DESCRIPTION:The BCA’s annual General Membership Meeting\, set for noon\, provides members with an important opportunity to stay informed and engaged in the association’s direction. Attendees will hear detailed reports on membership growth\, engagement and retention\, along with a comprehensive financial update that addresses budget performance and long-term sustainability. BCA CEO Shane Tyree will also outline the organization’s strategic priorities\, sharing goals and initiatives aimed at strengthening the industry’s future. Designed to promote transparency and collaboration\, the meeting ensures members have a voice in shaping the association’s continued progress.
URL:https://bcaexpo.com/schedule/bca-general-membership-meeting-lunch/
LOCATION:247\, Las Vegas Convention Center
CATEGORIES:2026 BCA Expo
END:VEVENT
END:VCALENDAR